BEGIN:VCALENDAR
VERSION:2.0
PRODID:-//RTV Steenwijk - ECPv6.15.20//NONSGML v1.0//EN
CALSCALE:GREGORIAN
METHOD:PUBLISH
X-WR-CALNAME:RTV Steenwijk
X-ORIGINAL-URL:https://tour-du-benelux-dev.nl
X-WR-CALDESC:Evenementen voor RTV Steenwijk
REFRESH-INTERVAL;VALUE=DURATION:PT1H
X-Robots-Tag:noindex
X-PUBLISHED-TTL:PT1H
BEGIN:VTIMEZONE
TZID:Europe/Amsterdam
BEGIN:DAYLIGHT
TZOFFSETFROM:+0100
TZOFFSETTO:+0200
TZNAME:CEST
DTSTART:20250330T010000
END:DAYLIGHT
BEGIN:STANDARD
TZOFFSETFROM:+0200
TZOFFSETTO:+0100
TZNAME:CET
DTSTART:20251026T010000
END:STANDARD
BEGIN:DAYLIGHT
TZOFFSETFROM:+0100
TZOFFSETTO:+0200
TZNAME:CEST
DTSTART:20260329T010000
END:DAYLIGHT
BEGIN:STANDARD
TZOFFSETFROM:+0200
TZOFFSETTO:+0100
TZNAME:CET
DTSTART:20261025T010000
END:STANDARD
BEGIN:DAYLIGHT
TZOFFSETFROM:+0100
TZOFFSETTO:+0200
TZNAME:CEST
DTSTART:20270328T010000
END:DAYLIGHT
BEGIN:STANDARD
TZOFFSETFROM:+0200
TZOFFSETTO:+0100
TZNAME:CET
DTSTART:20271031T010000
END:STANDARD
END:VTIMEZONE
BEGIN:VEVENT
DTSTART;VALUE=DATE:20260514
DTEND;VALUE=DATE:20260515
DTSTAMP:20260421T230729
CREATED:20260305T201026Z
LAST-MODIFIED:20260305T201544Z
UID:9422-1778716800-1778803199@tour-du-benelux-dev.nl
SUMMARY:Clubweekend
DESCRIPTION:Clubweekend in Valkenburg
URL:https://tour-du-benelux-dev.nl/event/clubweekend/
CATEGORIES:Tochten2026
END:VEVENT
BEGIN:VEVENT
DTSTART;VALUE=DATE:20260516
DTEND;VALUE=DATE:20260517
DTSTAMP:20260421T230729
CREATED:20260305T201026Z
LAST-MODIFIED:20260305T201551Z
UID:9424-1778889600-1778975999@tour-du-benelux-dev.nl
SUMMARY:Clubweekend
DESCRIPTION:Clubweekend in Valkenburg
URL:https://tour-du-benelux-dev.nl/event/clubweekend-3/
CATEGORIES:Tochten2026
END:VEVENT
BEGIN:VEVENT
DTSTART;VALUE=DATE:20260517
DTEND;VALUE=DATE:20260518
DTSTAMP:20260421T230729
CREATED:20260305T201026Z
LAST-MODIFIED:20260305T201601Z
UID:9425-1778976000-1779062399@tour-du-benelux-dev.nl
SUMMARY:Clubweekend
DESCRIPTION:Clubweekend in Valkenburg
URL:https://tour-du-benelux-dev.nl/event/clubweekend-4/
CATEGORIES:Tochten2026
END:VEVENT
BEGIN:VEVENT
DTSTART;TZID=Europe/Amsterdam:20260531T080000
DTEND;TZID=Europe/Amsterdam:20260531T080000
DTSTAMP:20260421T230729
CREATED:20260305T201025Z
LAST-MODIFIED:20260305T201638Z
UID:9428-1780214400-1780214400@tour-du-benelux-dev.nl
SUMMARY:Zwolle
DESCRIPTION:Wegkapitein Kor Heethuis gezamenlijke rit van circa 110 kilometer
URL:https://tour-du-benelux-dev.nl/event/zwolle-5/
CATEGORIES:Tochten2026
END:VEVENT
END:VCALENDAR