BEGIN:VCALENDAR
VERSION:2.0
PRODID:-//RTV Steenwijk - ECPv6.15.20//NONSGML v1.0//EN
CALSCALE:GREGORIAN
METHOD:PUBLISH
X-ORIGINAL-URL:https://tour-du-benelux-dev.nl
X-WR-CALDESC:Evenementen voor RTV Steenwijk
REFRESH-INTERVAL;VALUE=DURATION:PT1H
X-Robots-Tag:noindex
X-PUBLISHED-TTL:PT1H
BEGIN:VTIMEZONE
TZID:Europe/Amsterdam
BEGIN:DAYLIGHT
TZOFFSETFROM:+0100
TZOFFSETTO:+0200
TZNAME:CEST
DTSTART:20250330T010000
END:DAYLIGHT
BEGIN:STANDARD
TZOFFSETFROM:+0200
TZOFFSETTO:+0100
TZNAME:CET
DTSTART:20251026T010000
END:STANDARD
BEGIN:DAYLIGHT
TZOFFSETFROM:+0100
TZOFFSETTO:+0200
TZNAME:CEST
DTSTART:20260329T010000
END:DAYLIGHT
BEGIN:STANDARD
TZOFFSETFROM:+0200
TZOFFSETTO:+0100
TZNAME:CET
DTSTART:20261025T010000
END:STANDARD
BEGIN:DAYLIGHT
TZOFFSETFROM:+0100
TZOFFSETTO:+0200
TZNAME:CEST
DTSTART:20270328T010000
END:DAYLIGHT
BEGIN:STANDARD
TZOFFSETFROM:+0200
TZOFFSETTO:+0100
TZNAME:CET
DTSTART:20271031T010000
END:STANDARD
END:VTIMEZONE
BEGIN:VEVENT
DTSTART;TZID=Europe/Amsterdam:20260712T080000
DTEND;TZID=Europe/Amsterdam:20260712T080000
DTSTAMP:20260422T035039
CREATED:20260305T200912Z
LAST-MODIFIED:20260305T201720Z
UID:9434-1783843200-1783843200@tour-du-benelux-dev.nl
SUMMARY:Ommen
DESCRIPTION:Wegkapitein Gerrit Oosterhuis gezamenlijke rit
URL:https://tour-du-benelux-dev.nl/event/ommen-4/
LOCATION:Café Restaurant Madrid\, Tolhuisweg 5\, Ommen\, 7722 HS\, Nederland
CATEGORIES:Tochten2026
END:VEVENT
BEGIN:VEVENT
DTSTART;TZID=Europe/Amsterdam:20260816T080000
DTEND;TZID=Europe/Amsterdam:20260816T080000
DTSTAMP:20260422T035039
CREATED:20260305T200912Z
LAST-MODIFIED:20260305T201806Z
UID:9439-1786867200-1786867200@tour-du-benelux-dev.nl
SUMMARY:Hollands-Venetie Tocht
DESCRIPTION:A-groep: Marc de Vent B-groep: in onderling overleg
URL:https://tour-du-benelux-dev.nl/event/hollands-venetie-tocht-5/
LOCATION:De Meenthe\, Stationplein 1\, Steenwijk\, Overijssel\, 8331 GM\, Nederland
CATEGORIES:Tochten2026
END:VEVENT
BEGIN:VEVENT
DTSTART;TZID=Europe/Amsterdam:20260830T080000
DTEND;TZID=Europe/Amsterdam:20260830T080000
DTSTAMP:20260422T035039
CREATED:20260305T200912Z
LAST-MODIFIED:20260305T201821Z
UID:9441-1788076800-1788076800@tour-du-benelux-dev.nl
SUMMARY:Harmbaastocht
DESCRIPTION:Harm Baastocht met als alternatief een gezamenlijke rit naar Appelscha
URL:https://tour-du-benelux-dev.nl/event/harmbaastocht-2/
CATEGORIES:Tochten2026
END:VEVENT
BEGIN:VEVENT
DTSTART;TZID=Europe/Amsterdam:20260906T080000
DTEND;TZID=Europe/Amsterdam:20260906T080000
DTSTAMP:20260422T035039
CREATED:20260305T200912Z
LAST-MODIFIED:20260305T201830Z
UID:9442-1788681600-1788681600@tour-du-benelux-dev.nl
SUMMARY:Holterberg - Lemelerberg / Pesse
DESCRIPTION:Wegkapitein Gerrit Oosterhuis. Alternatief in onderling overleg.
URL:https://tour-du-benelux-dev.nl/event/holterberg-lemelerberg-pesse/
LOCATION:De Lemelerberg\, Kerkweg 32\, Lemelerberg\, 8148 PZ\, Nederland
CATEGORIES:Tochten2026
END:VEVENT
BEGIN:VEVENT
DTSTART;TZID=Europe/Amsterdam:20260927T080000
DTEND;TZID=Europe/Amsterdam:20260927T080000
DTSTAMP:20260422T035039
CREATED:20260305T200912Z
LAST-MODIFIED:20260305T201857Z
UID:9445-1790496000-1790496000@tour-du-benelux-dev.nl
SUMMARY:Buffeltocht
DESCRIPTION:Buffeltocht met als alternatief Oldeberkoop ’t Koepelbos
URL:https://tour-du-benelux-dev.nl/event/buffeltocht-2/
LOCATION:De Waterbuffelfarm\, Hareweg 6A\, Oldemarkt\, 8375 GB\, Nederland
CATEGORIES:Tochten2026
END:VEVENT
END:VCALENDAR